BEGIN:VCALENDAR
VERSION:2.0
PRODID:-//Multi-Purpose Facility and Chapel - ECPv6.15.20//NONSGML v1.0//EN
CALSCALE:GREGORIAN
METHOD:PUBLISH
X-WR-CALNAME:Multi-Purpose Facility and Chapel
X-ORIGINAL-URL:https://mpf-chapel.sunute.com
X-WR-CALDESC:Events for Multi-Purpose Facility and Chapel
REFRESH-INTERVAL;VALUE=DURATION:PT1H
X-Robots-Tag:noindex
X-PUBLISHED-TTL:PT1H
BEGIN:VTIMEZONE
TZID:America/Denver
BEGIN:DAYLIGHT
TZOFFSETFROM:-0700
TZOFFSETTO:-0600
TZNAME:MDT
DTSTART:20230312T090000
END:DAYLIGHT
BEGIN:STANDARD
TZOFFSETFROM:-0600
TZOFFSETTO:-0700
TZNAME:MST
DTSTART:20231105T080000
END:STANDARD
BEGIN:DAYLIGHT
TZOFFSETFROM:-0700
TZOFFSETTO:-0600
TZNAME:MDT
DTSTART:20240310T090000
END:DAYLIGHT
BEGIN:STANDARD
TZOFFSETFROM:-0600
TZOFFSETTO:-0700
TZNAME:MST
DTSTART:20241103T080000
END:STANDARD
BEGIN:DAYLIGHT
TZOFFSETFROM:-0700
TZOFFSETTO:-0600
TZNAME:MDT
DTSTART:20250309T090000
END:DAYLIGHT
BEGIN:STANDARD
TZOFFSETFROM:-0600
TZOFFSETTO:-0700
TZNAME:MST
DTSTART:20251102T080000
END:STANDARD
END:VTIMEZONE
BEGIN:VEVENT
DTSTART;VALUE=DATE:20240625
DTEND;VALUE=DATE:20240628
DTSTAMP:20260423T025005
CREATED:20240611T171748Z
LAST-MODIFIED:20240611T171831Z
UID:607-1719273600-1719532799@mpf-chapel.sunute.com
SUMMARY:Traditional Sewing and Beading - See Flyer for Specific Times
DESCRIPTION:
URL:https://mpf-chapel.sunute.com/occasion/traditional-sewing-and-beading/
CATEGORIES:Classes,Community Events,Multi-Purpose Facility
END:VEVENT
BEGIN:VEVENT
DTSTART;TZID=America/Denver:20240618T103000
DTEND;TZID=America/Denver:20240618T130000
DTSTAMP:20260423T025005
CREATED:20240611T171338Z
LAST-MODIFIED:20240611T171338Z
UID:605-1718706600-1718715600@mpf-chapel.sunute.com
SUMMARY:Healthy Cooking with Lisa Smith
DESCRIPTION:
URL:https://mpf-chapel.sunute.com/occasion/healthy-cooking-with-lisa-smith/
CATEGORIES:Classes,Multi-Purpose Facility
END:VEVENT
BEGIN:VEVENT
DTSTART;TZID=America/Denver:20240615T090000
DTEND;TZID=America/Denver:20240615T150000
DTSTAMP:20260423T025005
CREATED:20240611T171528Z
LAST-MODIFIED:20240611T171528Z
UID:606-1718442000-1718463600@mpf-chapel.sunute.com
SUMMARY:June Indoor Yard Sale
DESCRIPTION:
URL:https://mpf-chapel.sunute.com/occasion/june-indoor-yard-sale/
CATEGORIES:Classes,Community Events,Multi-Purpose Facility
END:VEVENT
BEGIN:VEVENT
DTSTART;TZID=America/Denver:20240614T113000
DTEND;TZID=America/Denver:20240614T133000
DTSTAMP:20260423T025005
CREATED:20240611T170929Z
LAST-MODIFIED:20240611T170929Z
UID:604-1718364600-1718371800@mpf-chapel.sunute.com
SUMMARY:Sip\, Chat and Chew
DESCRIPTION:
URL:https://mpf-chapel.sunute.com/occasion/sip-chat-and-chew/
CATEGORIES:Community Events,Multi-Purpose Facility,Tribal Members
END:VEVENT
BEGIN:VEVENT
DTSTART;TZID=America/Denver:20240610T080000
DTEND;TZID=America/Denver:20240610T170000
DTSTAMP:20260423T025005
CREATED:20240610T153629Z
LAST-MODIFIED:20240610T153629Z
UID:589-1718006400-1718038800@mpf-chapel.sunute.com
SUMMARY:Youth Craft Day Friday June 21\, 2024
DESCRIPTION:
URL:https://mpf-chapel.sunute.com/occasion/youth-craft-day-friday-june-21-2024/
CATEGORIES:Classes,Community Events,Multi-Purpose Facility,Tribal Members
END:VEVENT
END:VCALENDAR