BEGIN:VCALENDAR
VERSION:2.0
PRODID:-//Multi-Purpose Facility and Chapel - ECPv6.15.20//NONSGML v1.0//EN
CALSCALE:GREGORIAN
METHOD:PUBLISH
X-WR-CALNAME:Multi-Purpose Facility and Chapel
X-ORIGINAL-URL:https://mpf-chapel.sunute.com
X-WR-CALDESC:Events for Multi-Purpose Facility and Chapel
REFRESH-INTERVAL;VALUE=DURATION:PT1H
X-Robots-Tag:noindex
X-PUBLISHED-TTL:PT1H
BEGIN:VTIMEZONE
TZID:America/Denver
BEGIN:DAYLIGHT
TZOFFSETFROM:-0700
TZOFFSETTO:-0600
TZNAME:MDT
DTSTART:20230312T090000
END:DAYLIGHT
BEGIN:STANDARD
TZOFFSETFROM:-0600
TZOFFSETTO:-0700
TZNAME:MST
DTSTART:20231105T080000
END:STANDARD
BEGIN:DAYLIGHT
TZOFFSETFROM:-0700
TZOFFSETTO:-0600
TZNAME:MDT
DTSTART:20240310T090000
END:DAYLIGHT
BEGIN:STANDARD
TZOFFSETFROM:-0600
TZOFFSETTO:-0700
TZNAME:MST
DTSTART:20241103T080000
END:STANDARD
BEGIN:DAYLIGHT
TZOFFSETFROM:-0700
TZOFFSETTO:-0600
TZNAME:MDT
DTSTART:20250309T090000
END:DAYLIGHT
BEGIN:STANDARD
TZOFFSETFROM:-0600
TZOFFSETTO:-0700
TZNAME:MST
DTSTART:20251102T080000
END:STANDARD
BEGIN:DAYLIGHT
TZOFFSETFROM:-0700
TZOFFSETTO:-0600
TZNAME:MDT
DTSTART:20260308T090000
END:DAYLIGHT
BEGIN:STANDARD
TZOFFSETFROM:-0600
TZOFFSETTO:-0700
TZNAME:MST
DTSTART:20261101T080000
END:STANDARD
END:VTIMEZONE
BEGIN:VEVENT
DTSTART;TZID=America/Denver:20250430T113000
DTEND;TZID=America/Denver:20250430T143000
DTSTAMP:20260420T024332
CREATED:20250331T221107Z
LAST-MODIFIED:20250331T221107Z
UID:689-1746012600-1746023400@mpf-chapel.sunute.com
SUMMARY:MPF Food Sale
DESCRIPTION:
URL:https://mpf-chapel.sunute.com/occasion/mpf-food-sale/
CATEGORIES:Community Events,Multi-Purpose Facility,Public Events,Tribal Members
END:VEVENT
BEGIN:VEVENT
DTSTART;TZID=America/Denver:20250412T090000
DTEND;TZID=America/Denver:20250412T160000
DTSTAMP:20260420T024332
CREATED:20250331T215651Z
LAST-MODIFIED:20250331T215651Z
UID:682-1744448400-1744473600@mpf-chapel.sunute.com
SUMMARY:Indoor Yard Sale
DESCRIPTION:
URL:https://mpf-chapel.sunute.com/occasion/indoor-yard-sale/
CATEGORIES:Classes,Community Events,Multi-Purpose Facility,Public Events,Tribal Members
END:VEVENT
BEGIN:VEVENT
DTSTART;TZID=America/Denver:20250402T100000
DTEND;TZID=America/Denver:20250402T113000
DTSTAMP:20260420T024332
CREATED:20250331T215500Z
LAST-MODIFIED:20250331T215516Z
UID:681-1743588000-1743593400@mpf-chapel.sunute.com
SUMMARY:April Senior Breakfast
DESCRIPTION:Open to all Community Senior Citizens 55 years and older.
URL:https://mpf-chapel.sunute.com/occasion/april-senior-breakfast/
CATEGORIES:Community Events,Multi-Purpose Facility,Public Events,Tribal Members
END:VEVENT
BEGIN:VEVENT
DTSTART;TZID=America/Denver:20241116T100000
DTEND;TZID=America/Denver:20241116T153000
DTSTAMP:20260420T024332
CREATED:20241030T164511Z
LAST-MODIFIED:20241030T164511Z
UID:667-1731751200-1731771000@mpf-chapel.sunute.com
SUMMARY:Craft Fair in the Park
DESCRIPTION:
URL:https://mpf-chapel.sunute.com/occasion/craft-fair-in-the-park/
CATEGORIES:Community Events,Multi-Purpose Facility,Public Events,Tribal Members
END:VEVENT
BEGIN:VEVENT
DTSTART;TZID=America/Denver:20241111T100000
DTEND;TZID=America/Denver:20241111T123000
DTSTAMP:20260420T024332
CREATED:20241017T195938Z
LAST-MODIFIED:20241017T195938Z
UID:640-1731319200-1731328200@mpf-chapel.sunute.com
SUMMARY:Veterans Day Brunch
DESCRIPTION:Veterans Day Brunch \nAll Community US Veterans are invited. \nEssay contest Winners will be announced. \nHonoring all honorably discharged U.S. Veterans\, regardless of race or ethnicity. \nMonday November 11\, 2024 10:00 AM – 12:30 PM \nMulti-Purpose Facility 256 Ute Rd. Ignacio CO 81137 \n970-563-2640
URL:https://mpf-chapel.sunute.com/occasion/veterans-day-brunch/
CATEGORIES:Community Events,Multi-Purpose Facility,Public Events,Tribal Members
END:VEVENT
BEGIN:VEVENT
DTSTART;VALUE=DATE:20241109
DTEND;VALUE=DATE:20241110
DTSTAMP:20260420T024332
CREATED:20241017T200045Z
LAST-MODIFIED:20241017T200125Z
UID:641-1731110400-1731196799@mpf-chapel.sunute.com
SUMMARY:Southern Ute Veteran's Association Princess Contest
DESCRIPTION:
URL:https://mpf-chapel.sunute.com/occasion/southern-ute-veterans-association-princess-contest/
CATEGORIES:Community Events,Multi-Purpose Facility,Public Events,Tribal Members
END:VEVENT
BEGIN:VEVENT
DTSTART;TZID=America/Denver:20241106T100000
DTEND;TZID=America/Denver:20241106T113000
DTSTAMP:20260420T024332
CREATED:20241030T161846Z
LAST-MODIFIED:20241030T161846Z
UID:655-1730887200-1730892600@mpf-chapel.sunute.com
SUMMARY:Senior Breakfast 10:00 AM - 11:30 AM
DESCRIPTION:Senior Breakfast 10:00 AM – 11:30 AM
URL:https://mpf-chapel.sunute.com/occasion/senior-breakfast-1000-am-1130-am/
CATEGORIES:Community Events,Multi-Purpose Facility,Public Events,Tribal Members
END:VEVENT
BEGIN:VEVENT
DTSTART;TZID=America/Denver:20241102T090000
DTEND;TZID=America/Denver:20241102T153000
DTSTAMP:20260420T024332
CREATED:20241030T161729Z
LAST-MODIFIED:20241030T164253Z
UID:654-1730538000-1730561400@mpf-chapel.sunute.com
SUMMARY:Indoor Yard Sale - Masquarade Fun Saturday November 2\, 2024 9:00 AM - 4:00 PM
DESCRIPTION:
URL:https://mpf-chapel.sunute.com/occasion/indoor-yard-sale-saturday-november-2-2024-900-am-400-pm/
CATEGORIES:Community Events,Multi-Purpose Facility,Public Events,Tribal Members
END:VEVENT
BEGIN:VEVENT
DTSTART;TZID=America/Denver:20241031T180000
DTEND;TZID=America/Denver:20241031T230000
DTSTAMP:20260420T024332
CREATED:20241017T195749Z
LAST-MODIFIED:20241017T195749Z
UID:638-1730397600-1730415600@mpf-chapel.sunute.com
SUMMARY:Multi - Purpose Facility Haunted House October 31st 6PM - 11 PM Admission $13
DESCRIPTION:
URL:https://mpf-chapel.sunute.com/occasion/multi-purpose-facility-haunted-house-october-31st-6pm-11-pm-admission-13/
CATEGORIES:Community Events,Multi-Purpose Facility,Public Events,Tribal Members
END:VEVENT
BEGIN:VEVENT
DTSTART;VALUE=DATE:20241025
DTEND;VALUE=DATE:20241027
DTSTAMP:20260420T024332
CREATED:20241017T195114Z
LAST-MODIFIED:20241017T195233Z
UID:633-1729814400-1729987199@mpf-chapel.sunute.com
SUMMARY:Haunted House October 25\, 26 2024 6 PM -11 PM
DESCRIPTION:
URL:https://mpf-chapel.sunute.com/occasion/haunted-house-october-25-26-31-2024-6-pm-11-pm/
CATEGORIES:Community Events,Multi-Purpose Facility,Public Events,Tribal Members
END:VEVENT
END:VCALENDAR